Workbook

Sheet 会社概況調査票
A1: 会 社 概 況 等（回 答 票） | AZ1: NO.
A3: ※記入にあたっては、別紙「記載要領｣をご参照願います。
A4: １．会社概況 | AI4: 記入年月日 | BC4: 年 | BH4: 月 | BM4: 日
A5: 法人番号（13桁） | AA5: 住所 | BB5: 連絡先
AA7: 〒 | AJ7: － | BB7: （TEL）
A10: 会社名（個人名又は屋号）
BB11: （メールアドレス）
A12: （和名）
A14: カナ：
AA16: 登記住所（上記住所地と異なる場合のみ） | BB16: 連絡先
AA18: 〒 | AJ18: － | BB18: （TEL）
A21: （英名）
BB22: （メールアドレス）
A27: 代表者 | W27: 輸入業務責任者・担当者名 | AU27: 会社のHPアドレス
A29: （役職） | W29: （部課）
W31: （役職）
A32: （氏名）
W33: （氏名）
A35: 業種目 | M35: 資本金 | V35: 決算期 | AE35: 年間総売上高 | AN35: 会社設立 | BD35: 従業員数
S37: 万円 | AC37: 月 | AK37: 万円 | AR37: 年 | AW37: 月 | BB37: 日 | BL37: 名
A40: 貿易決済に利用する取引金融機関／支店名 （主要なもの）
A42: 1 | L42: 銀行・信用金庫 | AE42: 支店 | AH42: 2 | AS42: 銀行・信用金庫 | BL42: 支店
A46: ２．海外関連法人等
A47: 名 称 | Z47: 国名 | AE47: 関 係 | AP47: 関連会社との輸出入の有無及び主な品目
AV49: （品目）
AV51: （品目）
AV53: （品目）
AV55: （品目）
A58: ３．国内関連法人等
A59: 名 称 | Z59: 所 在 地 | BD59: 関 係
A68: ４．帳簿書類等の保存状況
A69: 文書保存規定の有無 | N69: 文書保存場所名 | AD69: 文書保存場所住所（１．「住所」と同一であれば入力不要）
A71: FALSE | E71: 有 | H71: FALSE | K71: 無 | N71: FALSE | P71: 会社住所 | W71: FALSE | Y71: 登記住所
N73: FALSE | P73: 会社支店等 | W73: FALSE | Y73: その他
A75: 種類 | F75: 説明 | V75: 保存対象及び保存方法
A77: 帳簿 | F77: 輸入の許可を受けた貨物の品名・数量・価格、仕出人の氏名又は名称、当該許可の年月日及び許可書の番号を記載したもの | V77: FALSE | X77: 帳簿の作成有り（ | AG77: FALSE | AI77: 紙 | AK77: FALSE | AM77: 電子データ）
V79: FALSE | X79: 帳簿の代わりに輸入許可通知書を保存( | AR79: FALSE | AT79: 紙 | AV79: FALSE | AX79: 電子データ）
V81: FALSE | X81: 帳簿の代わりに帳簿の記載事項を記載した書類を保存 ( | AZ81: FALSE | BB81: 紙 | BD81: FALSE | BF81: 電子データ）
V83: FALSE | X83: 市販ソフトウェア又はサービスを利用して保存
V85: （ソフトウェア等の名称： | BN85: ）
...

Sheet 会社概況調査票（輸出）
BM1: NO. | BR1: =IF(会社概況調査票!BE1="","",会社概況調査票!BE1)
A2: ※輸出取引がある場合 （輸出取引がある場合は、本票のご回答もお願いいたします）
A3: 会 社 概 況 等（輸出）（回 答 票）
A5: ※記入にあたっては、別紙「記載要領（輸出）｣をご参照願います。
A6: １．輸出の取引概況
AU7: 輸出開始年月 | BQ7: 年 | BV7: 月
A8: 取引品目（過去５年間） | AD8: 用途 | AO8: 仕向国 | AX8: 輸出業務責任者・担当者名 | BQ8: FALSE | BS8: 輸入と同一
AX10: （部課・役職）
AX13: （フリガナ）
AX14: （氏名）
AX17: 輸出の形態 | BG17: 売上額（任意の期間）
AX19: FALSE | AZ19: 海上 | BG19: （売上額） | BY19: 万円
AX21: FALSE | AZ21: 航空
AX23: FALSE | AZ23: 郵便 | BG23: （期間） | BT23: ～
AX25: FALSE | AZ25: ハンドキャリー
A27: 輸出申告名義
A29: 自社名義で申告 | U29: ％ | AK29: 他社名義で申告（商社、輸出代行等） | BR29: ％
A31: FALSE | G31: 自社で取引交渉を行う | AK31: FALSE | AR31: 自社で取引交渉を行う
A33: FALSE | G33: 自社で取引交渉を行わない | AK33: FALSE | AR33: 自社で取引交渉を行わない
A35: 依頼先（ | AI35: ） | AK35: 依頼先（ | BZ35: ）
A37: 契約・値決めの方法
A39: FALSE | C39: 書面 | G39: FALSE | I39: 現地で直接 | Q39: FALSE | S39: SNS | W39: FALSE | Y39: 電子メール | AF39: FALSE | AH39: 電話 | AL39: FALSE | AN39: FAX | AR39: FALSE | AT39: その他（ | BZ39: ）
A41: FALSE | C41: 自社では行わない（理由： | BZ41: ）
A43: 決済手段
A45: FALSE | C45: Ｔ／Ｔ(外国送金） | N45: FALSE | P45: L/C | T45: FALSE | V45: 現金現地 | AF45: FALSE | AH45: 現金国内 | AR45: FALSE | AT45: クレジットカード（ | BZ45: ）
A47: FALSE | C47: 決済アプリ（ | S47: ） | T47: FALSE | V47: 決済代行業者（ | AQ47: ） | AR47: FALSE | AT47: 資金移動業者（ | BZ47: ）
A49: FALSE | C49: その他（ | BZ49: ）
A51: 決済方法
A53: FALSE | C53: 前払い | H53: FALSE | J53: 後払い | O53: FALSE | Q53: 都度決済 | W53: FALSE | Y53: 相殺（ネッティング） | AJ53: FALSE | AL53: その他（ | BZ53: ）
A55: 輸出貿易管理令該当貨物の輸出実績有無 | AC55: FALSE | AE55: 該当貨物輸出あり（下記から選択し、品名を記入してください） | BO55: FALSE | BQ55: 該当貨物輸出なし
A57: FALSE | C57: 輸出貿易管理令 別表第１該当貨物（経産大臣許可取得） | AJ57: FALSE | AL57: 輸出貿易管理令 別表第１該当貨物（特例適用により許可不要）
A59: FALSE | C59: 輸出貿易管理令 別表第２該当貨物（経産大臣承認取得） | AJ59: FALSE | AL59: 輸出貿易管理令 別表第２該当貨物（特例適用により承認不要）
A61: FALSE | C61: 北朝鮮を最終仕向地とする貨物 | AJ61: FALSE | AL61: ロシア又はベラルーシを最終仕向地とする貨物（別表第２の３等該当）
A63: FALSE | C63: 該当貨物の品名（ | BZ63: ）
A65: 外国為替令別表に該当する特定技術の提供有無
A67: FALSE | C67: 有（輸出貨物に付随するもの（例：制御プログラムとして輸出貨物にインストール等）） | BA67: FALSE | BC67: 有（輸出貨物に付随しないもの） | BW67: FALSE | BY67: 無
A70: その他の輸出規制品の輸出実績有無
A72: FALSE | C72: 有（ | BV72: ） | BW72: FALSE | BY72: 無
A75: 輸出規制に該当する貨物か否かを判定する方法（複数選択可）
A77: FALSE | C77: 自社判定 | J77: FALSE | L77: メーカーに依頼 | V77: FALSE | X77: 該非判定業者に依頼 | AL77: FALSE | AN77: その他（ | BZ77: ）
...

Sheet 記載例
A1: 会 社 概 況 等（回 答 票） | AZ1: NO.
A3: ※記入にあたっては、別紙「記載要領｣をご参照願います。
A4: １．会社概況 | AI4: 記入年月日 | AW4: R8 | BC4: 年 | BE4: 2 | BH4: 月 | BJ4: 10 | BM4: 日
A5: 法人番号（13桁） | AA5: 住所 | BB5: 連絡先
A7: 1 | C7: 2 | E7: 3 | G7: 4 | I7: 5 | K7: 6 | M7: 7 | O7: 8 | Q7: 9 | S7: 0 | U7: 1 | W7: 2 | Y7: 3 | AA7: 〒 | AD7: XXX | AJ7: － | AL7: XXXX | BB7: （TEL）
AA9: 東京都千代田区○○町１－１ | BB9: 03-xxxx-xxxx
A10: 会社名（個人名又は屋号）
BB11: （メールアドレス）
A12: （和名）
BB13: zeikanXXXX@mof.co.jp
A14: カナ： | E14: ゼイカンショウジカブシキカイシャ
A16: 税関商事株式会社 | AA16: 登記住所（上記住所地と異なる場合のみ） | BB16: 連絡先
AA18: 〒 | AJ18: － | BB18: （TEL）
AA20: 同上 | BB20: 同上
A21: （英名）
BB22: （メールアドレス）
A23: Zeikanshoji Co.,Ltd.
BB24: 同上
A27: 代表者 | W27: 輸入業務責任者・担当者名 | AU27: 会社のHPアドレス
A29: （役職） | F29: 代表取締役社長 | W29: （部課） | AB29: 輸入調達部 | AU29: https://www.xxxxxxxxx.co.jp
W31: （役職） | AB31: 部長
A32: （氏名） | F32: 税関 太郎
W33: （氏名） | AB33: 税関 次郎
A35: 業種目 | M35: 資本金 | V35: 決算期 | AE35: 年間総売上高 | AN35: 会社設立 | BD35: 従業員数
A37: その他の化学工業 | M37: 100 | V37: 3 | AE37: 9000 | AN37: H25 | AT37: 4 | AY37: 1 | BD37: 10
S39: 万円 | AC39: 月 | AK39: 万円 | AR39: 年 | AW39: 月 | BB39: 日 | BL39: 名
A41: 貿易決済に利用する取引金融機関／支店名 （主要なもの）
A43: 1 | C43: 〇〇 | L43: 銀行・信用金庫 | T43: ×× | AE43: 支店 | AH43: 2 | AJ43: △△ | AS43: 銀行・信用金庫 | BA43: □□ | BL43: 支店
A47: ２．海外関連法人等
A48: 名 称 | Z48: 国名 | AE48: 関 係 | AP48: 関連会社との輸出入の有無及び主な品目
A50: ○○ USA.LLC | Z50: アメリカ | AE50: 100%出資子会社 | AP50: 輸入 | AV50: （品目） | AZ50: 化学原料
AP52: 輸出 | AV52: （品目） | AZ52: 化学品（完成品）
A54: ○○ CHINA.CO.LTD | Z54: 中国 | AE54: 100%出資子会社 | AP54: 輸入 | AV54: （品目） | AZ54: 玩具
AP56: 輸出 | AV56: （品目） | AZ56: 金型
A59: ３．国内関連法人等
A60: 名 称 | Z60: 所 在 地 | BD60: 関 係
A62: 税関○○工場株式会社 | Z62: 千葉県○○市○○町２－２ | BD62: 100%出資子会社、国内製造工場
A69: ４．帳簿書類等の保存状況
A70: 文書保存規定の有無 | N70: 文書保存場所名 | AA70: 文書保存場所住所（１．「住所」と同一であれば入力不要）
A72: ■ 有 □ 無 | N72: ■会社住所 □登記住所 □会社支店等 □その他
...

Sheet 記載例（輸出）
BM1: NO.
A2: ※輸出取引がある場合 （輸出取引がある場合は、本票のご回答もお願いいたします）
A3: 会 社 概 況 等（輸出）（回 答 票）
A5: ※記入にあたっては、別紙「記載要領（輸出）｣をご参照願います。
A6: １．輸出の取引概況
AU7: 輸出開始年月 | BQ7: 年 | BV7: 月
A8: 取引品目（過去５年間） | AD8: 用途 | AO8: 仕向国 | AX8: 輸出業務責任者・担当者名
A10: 工作機械 | AD10: 工作加工メーカー販売 | AO10: 韓国 | AX10: （部課・役職） | BG10: 海外事業部・課長
A13: 半導体製造装置 | AD13: 半導体製造メーカー販売 | AO13: 韓国 | AX13: （フリガナ） | BG13: ゼイカン ジロウ
AX14: （氏名） | BG14: 税関 次郎
A16: 漢方薬 | AD16: ネット個人販売 | AO16: 〇〇通販
AX17: 輸出の形態 | BG17: 売上額（任意の期間）
BG19: （売上額） | BN19: 1000 | BY19: 万円
BG22: （期間） | BN22: 令和7年1月 | BT22: ～ | BV22: 令和7年12月
A25: 輸出申告名義
A27: 自社名義で申告 | K27: 50 | U27: ％ | AK27: 他社名義で申告（商社、輸出代行等） | BH27: 50 | BU27: ％
A32: 依頼先 | I32: （ | J32: 税関トランス | AJ32: ） | AK32: 依頼先 | AU32: （ | AV32: 税関商事 | CA32: ）
A34: 契約・値決めの方法
AU36: （ | CA36: ）
L38: （理由： | CA38: ）
A40: 決済手段
AY42: （ | CA42: ）
I44: （ | V44: ） | AI44: （ | AW44: ） | BK44: （ | CA44: ）
H46: （ | CA46: ）
A48: 決済方法
AU50: （ | CA50: ）
A52: 輸出貿易管理令該当貨物の輸出実績有無
K59: （ | M59: 工作機械〇〇〇〇 | CA59: ）
A61: 外国為替令別表に該当する特定技術の提供有無
A66: その他の輸出規制品の輸出実績有無
G68: （ | H68: ﾜｼﾝﾄﾝ条約該当の漢方薬の輸出 | BO68: ）
A71: 輸出規制に該当する貨物か否かを判定する方法（複数選択可）
AO73: （ | CA73: ）
A77: ２．輸出関連帳簿書類等の保存状況
A78: 輸出取引に係る電子メールについては、印刷して保存している。
A87: ３．輸出取引に関して不審な引き合いを受けたことがありますか？
A88: 「ある」場合は、具体的な内容についてお聞かせください（引き合いの時期、貨物の種別・品名、相手方等）
A89: 2025年、A国の会社Bから工作機械Cの取引の引き合いがあり、社内で検討するため図面を見せてほしいとの依頼があったが、会社Bは軍需産業関連会社であったためこれを断った。
A97: ４．補足事項があればご記入ください。
A106: （記入者部署名） | T106: （氏名） | AY106: ご協力ありがとうございました
...

Sheet 記載要領
A1: 会社概況等（回答票）記載要領
A3: 欄名 | C3: 記載要領
B4: 記入年月日 | C4: 本調査票への記入年月日を記入してください。
A5: １． 会社概況
B6: 法人番号（13桁） | C6: 国税庁より指定された法人番号をお持ちの場合は法人番号を記入してください。不明な場合は、記入不要です。 ※個人の方の場合、マイナンバーは記入しないでください。
B7: 会社名（個人名又は屋号） | C7: （和名）法人の場合は、登記している正式な会社名を記入し、 個人事業者の場合は、個人名又は屋号を記入してください。 （英名）会社の英文名（個人事業者の場合は個人名）を英文で記入してください。
B8: 住所 | C8: 本社（個人事業者の場合は事業所）の郵便番号・住所（都道府県から戸番、ビル名、階数）を記入してください。また、本社等の所在地と貿易業務を行っている事業所等の所在地が異なる場合は、貿易業務を行っている事業所等の住所も記入してください。
B9: 連絡先 | C9: 本社（個人事業者の場合は事業所）の代表電話番号を記入してください。また、本社等の電話番号と貿易業務を行っている事業所等の電話番号が異なる場合は、貿易業務を行っている事業所等の電話番号も記入してください。
B10: 登記住所（上記住所地と異なる場合のみ） | C10: １．「住所」と法人登記の住所が異なる場合は登記住所を記入してください。
B11: 代表者 | C11: 代表者の役職（例：代表取締役社長）及び氏名を記入してください。
B12: 輸入業務責任者・担当者名 | C12: 税関への輸入（納税）申告に関する業務の担当者部課名、役職、担当者氏名を記入してください。
B13: 会社のHPアドレス | C13: ホームページを開設している場合は、アドレスを記入してください。
B14: 業種目 | C14: 主な業務について記入してください。 （例：総合商社、繊維製品輸出入業、化学製品製造業）
B15: 資本金 | C15: 資本金を記入してください。
B16: 決算期 | C16: 決算月をプルダウンより選択してください。
B17: 年間総売上高 | C17: おおよその年間総売上高を記入してください。
... B20: 貿易決済に利用する取引金融機関／支店名 （主要なもの） | C20: 主に輸出入取引に使用している金融機関及び支店名を記入してください。
A21: ２．海外関連法人等
B22: 名称・国名・関係 | C22: 海外にある主な関連法人等の名称、所在国を記入してください。また、当該関連法人等との関係があれば記入してください。 （例：100％出資子会社、非連結子会社、海外製造工場）
B23: 関連会社との輸出入の有無及び主な品目 | C23: 当該関連法人等との輸出入実績の有無をプルダウンより選択いただき、輸出入の実績がある場合には主な品目を記入してください。
A24: ３．国内関連法人等
B25: 名称・所在地・関係 | C25: 国内にある主な関連法人等の名称、所在地（都道府県から戸番、ビル名、階数）を記入してください。また、当該関係法人等との関係があれば記入してください。 （例：100％出資子会社、非連結子会社、国内製造工場）
A26: ４．帳簿書類等の保存状況
B27: 文書保存規定の有無 | C27: 帳簿書類等の文書保存規程の有無について、□にレチェックをしてください。
B28: 文書保存場所名 | C28: 帳簿書類等の文書を保存している場合、保存場所について、□にレチェックをしてください。
B29: 文書保存場所住所 （１．「住所」と同一であれば入力不要） | C29: 帳簿書類等の文書を保存している場合、保存場所住所（都道府県から戸番、ビル名、階数）を記入してください。 １．「住所」と同一である場合は記入不要です。
B30: 保存対象及び保存方法 | C30: 「帳簿」、「書類」、「電子取引の取引情報」の種類ごとに、保存している帳簿書類等及びその保存方法について、該当する□にレチェックをしてください。
B32: 『帳簿書類の保存義務と電子帳簿等保存制度』の詳細については、下記の税関HPよりご確認ください。
B33: https://www.customs.go.jp/shiryo/chobo.htm
C35: （裏面に続きます）
A36: ５．輸入の取引概況
A37: 〇主な取引先①、② | C37: 主な輸入取引先（輸出者）２社に関する下記の事項について記入してください。
B38: 輸入取引先名称（輸出者名） | C38: 名称を記入してください。
B39: 所在国 | C39: 所在国を記入してください。
B40: 輸入の形態 | C40: 輸入する運送形態を記入してください。（例：海上、航空、郵便、ハンドキャリー）
B41: 輸入開始年月 | C41: 輸入を開始した年月を記入してください。
B42: 主な品目 | C42: 輸入している主な品名を記入してください。
B43: 仕入れ額（任意の期間） | C43: 任意の期間中の仕入れ額を記入してください。
B44: 輸入貨物の主な販売先（法人の場合） | C44: 輸入貨物の主な販売先及び所在地を記入してください。
B45: 輸入貨物をネット販売する場合 | C45: 輸入貨物をインターネットにて販売している場合、ショップの名称及びプラットフォームを記入してください。
...

Sheet 記載要領 (輸出)
A1: 会社概況等（輸出）（回答票）記載要領 | C1: （輸出取引がある場合は、ご参考にされてください）
A3: 欄名 | C3: 記載要領
A4: １．輸出の取引状況
B5: 輸出開始年月 | C5: 輸出開始年月について記入してください。
B6: 取引品目（過去５年間） | C6: 過去５年間における取引貨物について記入してください。
B7: 用途 | C7: エンドユーザーにおける使用目的について記入してください。
B8: 仕向国 | C8: 過去５年間における取引貨物の仕向国について記入してください。
B9: 輸出業務責任者・担当者名 | C9: 輸出申告業務の担当部課名、役職、担当者氏名を記入してください。 輸入と同一であれば□にレチェックをしてください。（入力不要です）
B10: 輸出の形態（複数選択可） | C10: 輸出形態について、□にレチェックをしてください。
B11: 売上額（任意の期間） | C11: 任意の期間における輸出に係る売上額を記入してください。
B12: 輸出申告名義 | C12: 自社名義で申告する場合及び他社名義で申告する場合において、それぞれの割合を記入の上、自社における取引交渉の有無について、□にレチェックをしてください。 また、依頼する場合はその依頼先について記入してください。
B13: 契約・値決めの方法（複数選択可） | C13: 契約・値決めの方法について、□にレチェックをしてください。記載以外の方法で契約・値決めを行っている場合は「その他」にレチェックのうえ、その方法を記入してください。また、自社で契約・値決めを行っていない場合は「自社では行わない」にレチェックのうえ、その理由を記入してください。
B14: 決済手段（複数選択可） | C14: 貨物代金の決済手段について、□にレチェックをしてください。「クレジットカード」、「決済アプリ」、「決済代行業者」、「資金移動業者」を利用している場合は、利用しているサービス名を記入してください。記載以外の決済手段を利用している場合は「その他」にレチェックのうえ、その方法を記入してください。
B15: 決済方法（複数選択可） | C15: 決済方法について、□にレチェックをしてください。記載以外の決済方法を行ってる場合は「その他」にレチェックのうえ、その方法を記入してください。
B16: 輸出貿易管理令該当貨物の輸出実績有無 | C16: 輸出貿易管理令該当貨物に係る輸出実績の有無について、□にレチェックをしてください。 輸出実績がある場合は、下段の輸出貿易管理令該当貨物についての該当する□にレチェックをしてください。 輸出貿易管理令該当貨物の輸出実績が有る場合は、該当する許可承認内容の□にレチェックをしてください。また、該当貨物名について記入してください。
... B19: 輸出規制に該当する貨物か否かを判定する方法（複数選択可） | C19: 輸出規制に該当する貨物か否かを判定する方法について、□にレチェックをしてください。
A20: ２．輸出関連帳簿書類等の保存状況
B21: 輸入関連帳簿書類等と同様の保存状況 | C21: 輸入関連帳簿書類等と同様の保存状況か否か□にレチェックをしてください。 輸入関連帳簿書類等と保存状況が異なる場合は、下段に具体的な帳簿書類等と保存状況を記入してください。
A22: ３．輸出取引に関する不審な引き合いについて
B23: 輸出取引に関する不審な引き合いについて | C23: 輸出取引に関する不審な引き合いの有無について、□にレチェックをしてください。 有の場合は、具体的な内容を記入してください。
A24: ４．補足事項
B25: 記入した事項について補足事項があれば記入してください。
A26: （記入者部署名）・（氏名）
B27: 本調査票を記載された方の部署名及び氏名を記入してください。

Sheet 集計
A1: NO① | C1: 記入年月日 | D1: 法人番号 | E1: 会社名 | H1: 住所 | L1: 登記住所 | P1: 代表者 | R1: 輸入業務責任者・担当者名 | AB1: 取引金融機関１ | AD1: 取引金融機関２ | AF1: 海外関連法人等① | AM1: 海外関連法人等② | AT1: 国内関連法人等① | AW1: 国内関連法人等② | AZ1: 文書保存の規定の有無 | BB1: 文書保存場所名 | BG1: 帳簿 | BT1: 書類（貿易関係書類） | CJ1: 書類（経理関係書類） | CZ1: 電子取引の取引情報 | DG1: 主な取引先① | DV1: 契約・値決めの方法 | EF1: 決済手段 | ET1: 決済方法 | EZ1: 貨物代金以外の支払い | FL1: 原材料・副資材 | FQ1: 製造設備・工具・金型 | FV1: 設計図・デザイン | GA1: 主な取引先② | GP1: 契約・値決めの方法 | GZ1: 決済手段 | HN1: 決済方法 | HT1: 貨物代金以外の支払い | IF1: 原材料・副資材 | IK1: 製造設備・工具・金型 | IP1: 設計図・デザイン | IU1: 補足事項 | IV1: 記入者部署名 | IW1: 氏名
A2: NO① | B2: NO② | E2: 和名カナ | F2: 和名 | G2: 英名 | H2: 郵便番号 | I2: 住所 | J2: TEL | K2: メールアドレス | L2: 郵便番号 | M2: 住所 | N2: TEL | O2: メールアドレス | P2: 役職 | Q2: 氏名 | R2: 部課 | S2: 役職 | T2: 氏名 | U2: 会社HPアドレス | V2: 業種目 | W2: 資本金（万円） | X2: 決算期 | Y2: 年間総売上高（万円） | Z2: 会社設立 | AA2: 従業員数（名） | AB2: 金融機関名 | AC2: 支店名 | AD2: 金融機関名 | AE2: 支店名 | AF2: 名称 | AG2: 国名 | AH2: 関係 | AI2: 輸出入の有無① | AJ2: 主な品名① | AK2: 輸出入の有無② | AL2: 主な品名② | AM2: 名称 | AN2: 国名 | AO2: 関係 | AP2: 輸出入の有無① | AQ2: 主な品名① | AR2: 輸出入の有無② | AS2: 主な品名② | AT2: 名称 | AU2: 所在地 | AV2: 関係 | AW2: 名称 | AX2: 所在地 | AY2: 関係 | AZ2: 有 | BA2: 無 | BB2: 会社住所 | BC2: 登記住所 | BD2: 会社支店等 | BE2: その他 | BF2: 文書保存場所住所 | BG2: 帳簿の作成あり | BH2: 紙 | BI2: 電子データ | BJ2: 帳簿の代わりに輸入許可通知書を保存 | BK2: 紙 | BL2: 電子データ | BM2: 帳簿の代わりに帳簿の記載事項を記載した書類を保存 | BN2: 紙 | BO2: 電子データ | BP2: 市販ソフトウェア又はサービスを利用して保存 | BQ2: ソフトウェア等の名称 | BR2: その他 | BS2: その他の内容 | BT2: インボス | BU2: 紙 | BV2: 電子データ | BW2: パッキングリスト | BX2: 紙 | BY2: 電子データ | BZ2: B/L、Air Way Bill | CA2: 紙 | CB2: 電子データ | CC2: 原材料・副資材管理 | CD2: 紙 | CE2: 電子データ | CF2: その他 | CG2: その他の内容 | CH2: 紙 | CI2: 電子データ | CJ2: 総勘定元帳 | CK2: 紙 | CL2: 電子データ | CM2: ソフトウェア名称 | CN2: 補助簿 | CO2: 紙 | CP2: 電子データ | CQ2: ソフトウェア名称 | CR2: 固定資産台帳 | CS2: 紙 | CT2: 電子データ | CU2: ソフトウェア名称 | CV2: 外国送金関係 | CW2: 紙 | CX2: 電子データ | CY2: ソフトウェア名称 | CZ2: インターネット取引 | DA2: ソフトウェア名称 | DB2: 電子メール | DC2: ソフトウェア名称 | DD2: SNS・メッセージアプリ | DE2: アプリ名称 | DF2: 印刷して紙保存 | DG2: 輸入開始年 | DH2: 輸入開始月 | DI2: 輸入取引先名称（輸出者） | DJ2: 所在国 | DK2: 海上 | DL2: 航空 | DM2: 郵便 | DN2: ハンドキャリー | DO2: 主な品名 | DP2: 仕入額 | DQ2: 期間 | DR2: 販売先名称 | DS2: 販売先所在地 | DT2: ネット販売ショップ名 | DU2: ネット販売プラットフォーム | DV2: 書面 | DW2: 現地で直接 | DX2: SNS | DY2: 電子メール | DZ2: 電話 | EA2: FAX | EB2: その他 | EC2: その他の内容 | ED2: 自社では行わない | EE2: 理由 | EF2: T/T | EG2: L/C | EH2: 現金現地 | EI2: 現金国内 | EJ2: クレジットカード | EK2: クレジットカードサービス名 | EL2: 決済アプリ | EM2: 決済アプリサービス名 | EN2: 決済代行業者 | EO2: 決済代行サービス名 | EP2: 資金移動業者 | EQ2: 資金移動サービス名 | ER2: その他 | ES2: その他の内容 | ET2: 前払い | EU2: 後払い | EV2: 都度決済 | EW2: 相殺 | EX2: その他 | EY2: その他の内容 | EZ2: 手数料 | FA2: 現地調達の原材料代・製造設備費用・金型費用 | FB2: 輸出国での運賃・保険料 | FC2: 単価の遡及値上げ | FD2: ロイヤリティ | FE2: 輸入貨物の容器、包装費用 | FF2: 価格調整金 | FG2: 研究開発費 | FH2: 検品費用 | FI2: 三国間取引 | FJ2: その他 | FK2: その他の内容 | FL2: 輸出者が調達 | FM2: 自社が調達して提供・有償 | FN2: 自社が調達して提供・無償 | FO2: 他社が調達して提供・有償 | FP2: 他社が調達して提供・無償 | FQ2: 輸出者が調達 | FR2: 自社が調達して提供・有償 | FS2: 自社が調達して提供・無償 | FT2: 他社が調達して提供・有償 | FU2: 他社が調達して提供・無償 | FV2: 輸出者が調達 | FW2: 自社が調達して提供・有償 | FX2: 自社が調達して提供・有償 | FY2: 他社が調達して提供・有償 | FZ2: 他社が調達して提供・無償 | GA2: 輸入開始年 | GB2: 輸入開始月 | GC2: 輸入取引先名称（輸出者） | GD2: 所在国 | GE2: 海上 | GF2: 航空 | GG2: 郵便 | GH2: ハンドキャリー | GI2: 主な品名 | GJ2: 仕入額 | GK2: 期間 | GL2: 販売先名称 | GM2: 販売先所在地 | GN2: ネット販売ショップ名 | GO2: ネット販売プラットフォーム | GP2: 書面 | GQ2: 現地で直接 | GR2: SNS | GS2: 電子メール | GT2: 電話 | GU2: FAX | GV2: その他 | GW2: その他の内容 | GX2: 自社では行わない | GY2: 理由 | GZ2: T/T | HA2: L/C | HB2: 現金現地 | HC2: 現金国内 | HD2: クレジットカード | HE2: クレジットカードサービス名 | HF2: 決済アプリ | HG2: 決済アプリサービス名 | HH2: 決済代行業者 | HI2: 決済代行サービス名 | HJ2: 資金移動業者 | HK2: 資金移動サービス名 | HL2: その他 | HM2: その他の内容 | HN2: 前払い | HO2: 後払い | HP2: 都度決済 | HQ2: 相殺 | HR2: その他 | HS2: その他の内容 | HT2: 手数料 | HU2: 現地調達の原材料代・製造設備費用・金型費用 | HV2: 輸出国での運賃・保険料 | HW2: 単価の遡及値上げ | HX2: ロイヤリティ | HY2: 輸入貨物の容器、包装費用 | HZ2: 価格調整金 | IA2: 研究開発費 | IB2: 検品費用 | IC2: 三国間取引 | ID2: その他 | IE2: その他の内容 | IF2: 輸出者が調達 | IG2: 自社が調達して提供・有償 | IH2: 自社が調達して提供・無償 | II2: 他社が調達して提供・有償 | IJ2: 他社が調達して提供・無償 | IK2: 輸出者が調達 | IL2: 自社が調達して提供・有償 | IM2: 自社が調達して提供・無償 | IN2: 他社が調達して提供・有償 | IO2: 他社が調達して提供・無償 | IP2: 輸出者が調達 | IQ2: 自社が調達して提供・有償 | IR2: 自社が調達して提供・有償 | IS2: 他社が調達して提供・有償 | IT2: 他社が調達して提供・無償 | IU2: 補足事項 | IV2: 記入者部署名 | IW2: 氏名
A3: =会社概況調査票!BC1 -> 0 | B3: =会社概況調査票!BE1 -> 0 | C3: =会社概況調査票!AW4&"/"&会社概況調査票!BE4&"/"&会社概況調査票!BJ4 -> // | D3: =会社概況調査票!A7&会社概況調査票!C7&会社概況調査票!E7&会社概況調査票!G7&会社概況調査票!I7&会社概況調査票!K7&会社概況調査票!M7&会社概況調査票!O7&会社概況調査票!Q7&会社概況調査票!S7&会社概況調査票!U7&会社概況調査票!W7&会社概況調査票!Y7 | E3: =会社概況調査票!E14 -> 0 | F3: =会社概況調査票!A16 -> 0 | G3: =会社概況調査票!A23 -> 0 | H3: =TEXT(会社概況調査票!AD7,"000")&"-"&TEXT(会社概況調査票!AL7,"0000") -> 000-0000 | I3: =会社概況調査票!AA9 -> 0 | J3: =会社概況調査票!BB9 -> 0 | K3: =会社概況調査票!BB13 -> 0 | L3: =TEXT(会社概況調査票!AD18,"000")&"-"&TEXT(会社概況調査票!AL18,"0000") -> 000-0000 | M3: =会社概況調査票!AA20 | N3: =会社概況調査票!BB20 -> 0 | O3: =会社概況調査票!BB24 -> 0 | P3: =会社概況調査票!F29 -> 0 | Q3: =会社概況調査票!F32 -> 0 | R3: =会社概況調査票!AB29 -> 0 | S3: =会社概況調査票!AB31 -> 0 | T3: =会社概況調査票!AB33 -> 0 | U3: =会社概況調査票!AU29 -> 0 | V3: =会社概況調査票!A37 -> 0 | W3: =会社概況調査票!M37 -> 0 | X3: =会社概況調査票!V37 -> 0 | Y3: =会社概況調査票!AE37 -> 0 | Z3: =会社概況調査票!AN37&"/"&会社概況調査票!AT37&"/"&会社概況調査票!AY37 -> // | AA3: =会社概況調査票!BD37 -> 0 | AB3: =会社概況調査票!C42 -> 0 | AC3: =会社概況調査票!T42 -> 0 | AD3: =会社概況調査票!AJ42 -> 0 | AE3: =会社概況調査票!BA42 -> 0 | AF3: =会社概況調査票!A49 -> 0 | AG3: =会社概況調査票!Z49 -> 0 | AH3: =会社概況調査票!AE49 -> 0 | AI3: =会社概況調査票!AP49 -> 0 | AJ3: =会社概況調査票!AZ49 -> 0 | AK3: =会社概況調査票!AP51 -> 0 | AL3: =会社概況調査票!AZ51 -> 0 | AM3: =会社概況調査票!A53 -> 0 | AN3: =会社概況調査票!Z53 -> 0 | AO3: =会社概況調査票!AE53 -> 0 | AP3: =会社概況調査票!AP53 -> 0 | AQ3: =会社概況調査票!AZ53 -> 0 | AR3: =会社概況調査票!AP55 -> 0 | AS3: =会社概況調査票!AZ55 -> 0 | AT3: =会社概況調査票!A61 -> 0 | AU3: =会社概況調査票!Z61 -> 0 | AV3: =会社概況調査票!BD61 -> 0 | AW3: =会社概況調査票!A64 -> 0 | AX3: =会社概況調査票!Z64 -> 0 | AY3: =会社概況調査票!BD64 -> 0 | AZ3: =会社概況調査票!A71 -> FALSE | BA3: =会社概況調査票!H71 -> FALSE | BB3: =会社概況調査票!N71 -> FALSE | BC3: =会社概況調査票!W71 -> FALSE | BD3: =会社概況調査票!N73 -> FALSE | BE3: =会社概況調査票!W73 -> FALSE | BF3: =会社概況調査票!AD71 -> 0 | BG3: =会社概況調査票!V77 -> FALSE | BH3: =会社概況調査票!AG77 -> FALSE | BI3: =会社概況調査票!AK77 -> FALSE | BJ3: =会社概況調査票!V79 -> FALSE | BK3: =会社概況調査票!AR79 -> FALSE | BL3: =会社概況調査票!AV79 -> FALSE | BM3: =会社概況調査票!V81 -> FALSE | BN3: =会社概況調査票!AZ81 -> FALSE | BO3: =会社概況調査票!BD81 -> FALSE | BP3: =会社概況調査票!V83 -> FALSE | BQ3: =会社概況調査票!AK85 -> 0 | BR3: =会社概況調査票!V87 -> FALSE | BS3: =会社概況調査票!AC87 -> 0 | BT3: =会社概況調査票!V91 -> FALSE | BU3: =会社概況調査票!AD91 -> FALSE | BV3: =会社概況調査票!AH91 -> FALSE | BW3: =会社概況調査票!AR91 -> FALSE | BX3: =会社概況調査票!BC91 -> FALSE | BY3: =会社概況調査票!BG91 -> FALSE | BZ3: =会社概況調査票!V93 -> FALSE | CA3: =会社概況調査票!AI93 -> FALSE | CB3: =会社概況調査票!AM93 -> FALSE | CC3: =会社概況調査票!V95 -> FALSE | CD3: =会社概況調査票!AI95 -> FALSE | CE3: =会社概況調査票!AM95 -> FALSE | CF3: =会社概況調査票!V97 -> FALSE | CG3: =会社概況調査票!AC97 -> 0 | CH3: =会社概況調査票!BA97 -> FALSE | CI3: =会社概況調査票!BE97 -> FALSE | CJ3: =会社概況調査票!V101 -> FALSE | CK3: =会社概況調査票!AF101 -> FALSE | CL3: =会社概況調査票!AJ101 -> FALSE | CM3: =会社概況調査票!BA101 -> 0 | CN3: =会社概況調査票!V103 -> FALSE | CO3: =会社概況調査票!AF103 -> FALSE | CP3: =会社概況調査票!AJ103 -> FALSE | CQ3: =会社概況調査票!BA103 -> 0 | CR3: =会社概況調査票!V105 -> FALSE | CS3: =会社概況調査票!AF105 -> FALSE | CT3: =会社概況調査票!AJ105 -> FALSE | CU3: =会社概況調査票!BA105 -> 0 | CV3: =会社概況調査票!V107 -> FALSE | CW3: =会社概況調査票!AF107 -> FALSE | CX3: =会社概況調査票!AJ107 -> FALSE | CY3: =会社概況調査票!BA107 -> 0 | CZ3: =会社概況調査票!V109 -> FALSE | DA3: =会社概況調査票!AT109 -> 0 | DB3: =会社概況調査票!V111 -> FALSE | DC3: =会社概況調査票!AT111 -> 0 | DD3: =会社概況調査票!V113 -> FALSE | DE3: =会社概況調査票!AU113 -> 0 | DF3: =会社概況調査票!V115 -> FALSE | DG3: =会社概況調査票!AZ120 -> 0 | DH3: =会社概況調査票!BJ120 -> 0 | DI3: =会社概況調査票!A123 -> 0 | DJ3: =会社概況調査票!AE123 -> 0 | DK3: =会社概況調査票!AK123 -> FALSE | DL3: =会社概況調査票!AK125 -> FALSE | DM3: =会社概況調査票!AK127 -> FALSE | DN3: =会社概況調査票!AK129 -> FALSE | DO3: =会社概況調査票!AS123 -> 0 | DP3: =会社概況調査票!BE123 -> 0 | DQ3: =会社概況調査票!BE127&会社概況調査票!BG127&会社概況調査票!BH127&会社概況調査票!BJ127&会社概況調査票!BK127&会社概況調査票!BM127&会社概況調査票!BN127 -> .~. | DR3: =会社概況調査票!A135 -> 0 | DS3: =会社概況調査票!R135 -> 0 | DT3: =会社概況調査票!AR135 -> 0 | DU3: =会社概況調査票!BE135 -> 0 | DV3: =会社概況調査票!A141 -> FALSE | DW3: =会社概況調査票!G141 -> FALSE | DX3: =会社概況調査票!Q141 -> FALSE | DY3: =会社概況調査票!W141 -> FALSE | DZ3: =会社概況調査票!AF141 -> FALSE | EA3: =会社概況調査票!AL141 -> FALSE | EB3: =会社概況調査票!AR141 -> FALSE | EC3: =会社概況調査票!AY141 -> 0 | ED3: =会社概況調査票!A143 -> FALSE | EE3: =会社概況調査票!R143 -> 0 | EF3: =会社概況調査票!A147 -> FALSE | EG3: =会社概況調査票!N147 -> FALSE | EH3: =会社概況調査票!T147 -> FALSE | EI3: =会社概況調査票!AF147 -> FALSE | EJ3: =会社概況調査票!AR147 -> FALSE | EK3: =会社概況調査票!BC147 -> 0 | EL3: =会社概況調査票!A149 -> FALSE | EM3: =会社概況調査票!J149 -> 0 | EN3: =会社概況調査票!T149 -> FALSE | EO3: =会社概況調査票!AF149 -> 0 | EP3: =会社概況調査票!AR149 -> FALSE | EQ3: =会社概況調査票!BC149 -> 0 | ER3: =会社概況調査票!A151 -> FALSE | ES3: =会社概況調査票!H151 -> 0 | ET3: =会社概況調査票!A155 -> 0 | EU3: =会社概況調査票!H155 -> FALSE | EV3: =会社概況調査票!O155 -> ！ | EW3: =会社概況調査票!W155 -> FALSE | EX3: =会社概況調査票!AJ155 -> FALSE | EY3: =会社概況調査票!AQ155 -> 0 | EZ3: =会社概況調査票!A159 -> FALSE | FA3: =会社概況調査票!O159 -> FALSE | FB3: =会社概況調査票!AQ159 -> FALSE | FC3: =会社概況調査票!A161 -> FALSE | FD3: =会社概況調査票!O161 -> FALSE | FE3: =会社概況調査票!AQ161 -> FALSE | FF3: =会社概況調査票!A163 -> FALSE | FG3: =会社概況調査票!O163 -> FALSE | FH3: =会社概況調査票!AD163 -> FALSE | FI3: =会社概況調査票!AQ163 -> FALSE | FJ3: =会社概況調査票!A165 -> FALSE | FK3: =会社概況調査票!H165 -> 0 | FL3: =会社概況調査票!O171 -> FALSE | FM3: =会社概況調査票!AB171 -> FALSE | FN3: =会社概況調査票!AL171 -> FALSE | FO3: =会社概況調査票!AV171 -> FALSE | FP3: =会社概況調査票!BF171 -> FALSE | FQ3: =会社概況調査票!O173 -> FALSE | FR3: =会社概況調査票!AB173 -> FALSE | FS3: =会社概況調査票!AL173 -> FALSE | FT3: =会社概況調査票!AV173 -> FALSE | FU3: =会社概況調査票!BF173 -> FALSE | FV3: =会社概況調査票!O175 -> FALSE | FW3: =会社概況調査票!AB175 -> FALSE | FX3: =会社概況調査票!AL175 -> FALSE | FY3: =会社概況調査票!AV175 -> FALSE | FZ3: =会社概況調査票!BF175 -> FALSE | GA3: =会社概況調査票!AZ178 -> 0 | GB3: =会社概況調査票!BJ178 -> 0 | GC3: =会社概況調査票!A181 -> 0 | GD3: =会社概況調査票!AE181 -> 0 | GE3: =会社概況調査票!AK181 -> FALSE | GF3: =会社概況調査票!AK183 -> FALSE | GG3: =会社概況調査票!AK185 -> FALSE | GH3: =会社概況調査票!AK187 -> FALSE | GI3: =会社概況調査票!AS181 -> 0 | GJ3: =会社概況調査票!BE181 -> 0 | GK3: =会社概況調査票!BE185&会社概況調査票!BG185&会社概況調査票!BH185&"~"&会社概況調査票!BK185&会社概況調査票!BM185&会社概況調査票!BN185 -> .~. | GL3: =会社概況調査票!A193 -> 0 | GM3: =会社概況調査票!R193 -> 0 | GN3: =会社概況調査票!AR193 -> 0 | GO3: =会社概況調査票!BE193 -> 0 | GP3: =会社概況調査票!A199 -> FALSE | GQ3: =会社概況調査票!G199 -> FALSE | GR3: =会社概況調査票!Q199 -> FALSE | GS3: =会社概況調査票!W199 -> FALSE | GT3: =会社概況調査票!AF199 -> FALSE | GU3: =会社概況調査票!AL199 -> FALSE | GV3: =会社概況調査票!AR199 -> FALSE | GW3: =会社概況調査票!AY199 -> 0 | GX3: =会社概況調査票!A201 -> FALSE | GY3: =会社概況調査票!R201 -> 0 | GZ3: =会社概況調査票!A205 -> FALSE | HA3: =会社概況調査票!N205 -> FALSE | HB3: =会社概況調査票!T205 -> FALSE | HC3: =会社概況調査票!AF205 -> FALSE | HD3: =会社概況調査票!AR205 -> FALSE | HE3: =会社概況調査票!BC205 -> 0 | HF3: =会社概況調査票!A207 -> FALSE | HG3: =会社概況調査票!J207 -> 0 | HH3: =会社概況調査票!T207 -> FALSE | HI3: =会社概況調査票!AF207 -> 0 | HJ3: =会社概況調査票!AR207 -> FALSE | HK3: =会社概況調査票!BC207 -> 0 | HL3: =会社概況調査票!A209 -> FALSE | HM3: =会社概況調査票!H209 -> 0 | HN3: =会社概況調査票!A213 -> FALSE | HO3: =会社概況調査票!H213 -> FALSE | HP3: =会社概況調査票!O213 -> FALSE | HQ3: =会社概況調査票!W213 -> FALSE | HR3: =会社概況調査票!AJ213 -> FALSE | HS3: =会社概況調査票!AQ213 -> 0 | HT3: =会社概況調査票!A217 -> FALSE | HU3: =会社概況調査票!O217 -> FALSE | HV3: =会社概況調査票!AQ217 -> FALSE | HW3: =会社概況調査票!A219 -> FALSE | HX3: =会社概況調査票!O219 -> FALSE | HY3: =会社概況調査票!AQ219 -> FALSE | HZ3: =会社概況調査票!A221 -> FALSE | IA3: =会社概況調査票!O221 -> FALSE | IB3: =会社概況調査票!AD221 -> FALSE | IC3: =会社概況調査票!AQ221 -> FALSE | ID3: =会社概況調査票!A223 -> FALSE | IE3: =会社概況調査票!H223 -> 0 | IF3: =会社概況調査票!O229 -> FALSE | IG3: =会社概況調査票!AB229 -> FALSE | IH3: =会社概況調査票!AL229 -> FALSE | II3: =会社概況調査票!AV229 -> FALSE | IJ3: =会社概況調査票!BF229 -> FALSE | IK3: =会社概況調査票!O231 -> FALSE | IL3: =会社概況調査票!AB231 -> FALSE | IM3: =会社概況調査票!AL231 -> FALSE | IN3: =会社概況調査票!AV231 -> FALSE | IO3: =会社概況調査票!BF231 -> FALSE | IP3: =会社概況調査票!O233 -> FALSE | IQ3: =会社概況調査票!AB233 -> FALSE | IR3: =会社概況調査票!AL233 -> FALSE | IS3: =会社概況調査票!AV233 -> FALSE | IT3: =会社概況調査票!BF233 -> FALSE | IU3: =会社概況調査票!A236 -> 0 | IV3: =会社概況調査票!A241 -> 0 | IW3: =会社概況調査票!T241 -> 0

Sheet 集計（輸出）
A1: NO | C1: 法人番号 | D1: 会社名 | G1: １．輸出取引の概況 | CO1: ２．輸出関連帳簿書類等の保存状況 | CR1: ３．輸出取引に関して不審な引き合いを受けたことがありますか？ | CU1: ４．補足事項があればご記入ください。
A2: NO① | B2: NO② | C2: 法人番号 | D2: 和名カナ | E2: 和名 | F2: 英名 | G2: 開始年月日 | H2: 取引品目（過去5年間）① | I2: 用途① | J2: 仕向国① | K2: 取引品目（過去5年間）② | L2: 用途② | M2: 仕向国② | N2: 取引品目（過去5年間）③ | O2: 用途③ | P2: 仕向国③ | Q2: 取引品目（過去5年間）④ | R2: 用途④ | S2: 仕向国④ | T2: 取引品目（過去5年間）⑤ | U2: 用途⑤ | V2: 仕向国⑤ | W2: 輸出業務責任者・担当者名 | AA2: 輸出の形態 | AE2: 売上額（任意の期間） | AH2: 輸出申告名義 | AP2: 契約・値決めの方法 | AZ2: 決済手段 | BN2: 決済方法 | BT2: 輸出貿易管理令該当貨物の輸出実績有無 | CD2: 外国為替令別表に該当する特定技術の提供有無 | CG2: その他の輸出規制品の輸出実績有無 | CJ2: 輸出規制に該当する貨物か否かを判定する方法（複数選択可） | CO2: 輸入関連帳簿書類等と同様の保存状況内容 | CP2: 相違点あり | CQ2: 内容 | CR2: ある | CS2: ない | CT2: ある場合の内容 | CX2: （氏名）
W3: 輸入と同一 | X3: （部課・役職） | Y3: フリガナ | Z3: （氏名） | AA3: 海上 | AB3: 航空 | AC3: 郵便 | AD3: ハンドキャリー | AE3: （売上額） | AF3: （期間） | AH3: 自社名義で申告 | AI3: 自社で取引交渉を行う | AJ3: 自社で取引交渉を行わない | AK3: 依頼先 | AL3: 他社名義で申告（商社、輸出代行等） | AM3: 自社で取引交渉を行う | AN3: 自社で取引交渉を行わない | AO3: 依頼先 | AP3: 書面 | AQ3: 現地で直接 | AR3: SNS | AS3: 電子メール | AT3: 電話 | AU3: FAX | AV3: その他 | AW3: （その他） | AX3: 自社では行わない | AY3: 理由： | AZ3: T/T（外国送金） | BA3: L/C | BB3: 現金現地 | BC3: 現金国内 | BD3: クレジットカード | BE3: クレジットカードサービス名 | BF3: 決済アプリ | BG3: 決済アプリサービス名 | BH3: 決済代行業者 | BI3: 決済代行業者名 | BJ3: 資金移動業者 | BK3: 資金移動業者名 | BL3: その他 | BM3: その他名 | BN3: 前払い | BO3: 後払い | BP3: 都度決済 | BQ3: 相殺（ネッティング） | BR3: その他 | BS3: その他名 | BT3: 該当貨物輸出あり | BU3: 該当貨物輸出なし | BV3: 輸出貿易管理令 別表第１該当貨物（経産大臣許可取得） | BW3: 輸出貿易管理令 別表第１該当貨物（特例適用により許可不要） | BX3: 輸出貿易管理令 別表第２該当貨物（経産大臣承認取得） | BY3: 出貿易管理令 別表第２該当貨物（特例適用により承認不要） | BZ3: 北朝鮮を最終仕向地とする貨物 | CA3: ロシア又はベラルーシを最終仕向地とする貨物（別表第２の３等該当） | CB3: 該当貨物の品名 | CC3: 該当貨物の品名 | CD3: 有（輸出貨物に付随するもの（例：制御プログラムとして輸出貨物にインストール等）） | CE3: 有（輸出貨物に付随しないもの） | CF3: 無 | CG3: 有 | CH3: 有（品名） | CI3: 無 | CJ3: 自社判定 | CK3: メーカーに依頼 | CL3: 該非判定業者に依頼 | CM3: その他 | CN3: その他（ ） | CV3: 入と同一 | CW3: 記入 | CX3: 入と同一 | CY3: 記入
A4: ='会社概況調査票（輸出）'!BP1 -> 0 | B4: ='会社概況調査票（輸出）'!BR1 | C4: ='会社概況調査票（輸出）'!A115&'会社概況調査票（輸出）'!C115&'会社概況調査票（輸出）'!E115&'会社概況調査票（輸出）'!G115&'会社概況調査票（輸出）'!I115&'会社概況調査票（輸出）'!K115&'会社概況調査票（輸出）'!M115&'会社概況調査票（輸出）'!O115&'会社概況調査票（輸出）'!Q115&'会社概況調査票（輸出）'!S115&'会社概況調査票（輸出）'!U115&'会社概況調査票（輸出）'!W115&'会社概況調査票（輸出）'!Y115 -> 0000000000000 | D4: ='会社概況調査票（輸出）'!AE115 -> 0 | E4: ='会社概況調査票（輸出）'!AA116 -> 0 | F4: ='会社概況調査票（輸出）'!BA115 -> 0 | G4: ='会社概況調査票（輸出）'!BG7&"/"&'会社概況調査票（輸出）'!BS7 -> / | H4: ='会社概況調査票（輸出）'!A10 -> 0 | I4: ='会社概況調査票（輸出）'!AD10 -> 0 | J4: ='会社概況調査票（輸出）'!AO10 -> 0 | K4: ='会社概況調査票（輸出）'!A13 -> 0 | L4: ='会社概況調査票（輸出）'!AD13 -> 0 | M4: ='会社概況調査票（輸出）'!AO13 -> 0 | N4: ='会社概況調査票（輸出）'!A16 -> 0 | O4: ='会社概況調査票（輸出）'!AD16 -> 0 | P4: ='会社概況調査票（輸出）'!AO16 -> 0 | Q4: ='会社概況調査票（輸出）'!A19 -> 0 | R4: ='会社概況調査票（輸出）'!AD19 -> 0 | S4: ='会社概況調査票（輸出）'!AO19 -> 0 | T4: ='会社概況調査票（輸出）'!A23 -> 0 | U4: ='会社概況調査票（輸出）'!AD23 -> 0 | V4: ='会社概況調査票（輸出）'!AO23 -> 0 | W4: ='会社概況調査票（輸出）'!BQ8 -> FALSE | X4: ='会社概況調査票（輸出）'!BG10 -> 0 | Y4: ='会社概況調査票（輸出）'!BG13 -> 0 | Z4: ='会社概況調査票（輸出）'!BG14 -> 0 | AA4: ='会社概況調査票（輸出）'!AX19 -> FALSE | AB4: ='会社概況調査票（輸出）'!AX21 -> FALSE | AC4: ='会社概況調査票（輸出）'!AX23 -> FALSE | AD4: ='会社概況調査票（輸出）'!AX25 -> FALSE | AE4: ='会社概況調査票（輸出）'!BM19 -> 0 | AF4: ='会社概況調査票（輸出）'!BM23 -> 0 | AG4: ='会社概況調査票（輸出）'!BV23 -> 0 | AH4: ='会社概況調査票（輸出）'!K29 -> 0 | AI4: ='会社概況調査票（輸出）'!A31 -> FALSE | AJ4: ='会社概況調査票（輸出）'!A33 -> FALSE | AK4: ='会社概況調査票（輸出）'!L35 -> 0 | AL4: ='会社概況調査票（輸出）'!BH29 -> 0 | AM4: ='会社概況調査票（輸出）'!AK31 -> FALSE | AN4: ='会社概況調査票（輸出）'!AK33 -> FALSE | AO4: ='会社概況調査票（輸出）'!AW35 -> 0 | AP4: ='会社概況調査票（輸出）'!A39 -> FALSE | AQ4: ='会社概況調査票（輸出）'!G39 -> FALSE | AR4: ='会社概況調査票（輸出）'!Q39 -> FALSE | AS4: ='会社概況調査票（輸出）'!W39 -> FALSE | AT4: ='会社概況調査票（輸出）'!AF39 -> FALSE | AU4: ='会社概況調査票（輸出）'!AL39 -> FALSE | AV4: ='会社概況調査票（輸出）'!AR39 -> FALSE | AW4: ='会社概況調査票（輸出）'!AY39 -> 0 | AX4: ='会社概況調査票（輸出）'!A41 -> FALSE | AY4: ='会社概況調査票（輸出）'!R41 -> 0 | AZ4: ='会社概況調査票（輸出）'!A45 -> FALSE | BA4: ='会社概況調査票（輸出）'!N45 -> FALSE | BB4: ='会社概況調査票（輸出）'!T45 -> FALSE | BC4: ='会社概況調査票（輸出）'!AF45 -> FALSE | BD4: ='会社概況調査票（輸出）'!AR45 -> FALSE | BE4: ='会社概況調査票（輸出）'!BD45 -> 0 | BF4: ='会社概況調査票（輸出）'!A47 -> FALSE | BG4: ='会社概況調査票（輸出）'!J47 -> 0 | BH4: ='会社概況調査票（輸出）'!T47 -> FALSE | BI4: ='会社概況調査票（輸出）'!AE47 -> 0 | BJ4: ='会社概況調査票（輸出）'!AR47 -> FALSE | BK4: ='会社概況調査票（輸出）'!BD47 -> 0 | BL4: ='会社概況調査票（輸出）'!A49 -> FALSE | BM4: ='会社概況調査票（輸出）'!H49 -> 0 | BN4: ='会社概況調査票（輸出）'!A53 -> FALSE | BO4: ='会社概況調査票（輸出）'!H53 -> FALSE | BP4: ='会社概況調査票（輸出）'!O53 -> FALSE | BQ4: ='会社概況調査票（輸出）'!W53 -> FALSE | BR4: ='会社概況調査票（輸出）'!AJ53 -> FALSE | BS4: ='会社概況調査票（輸出）'!AQ53 -> 0 | BT4: ='会社概況調査票（輸出）'!AC55 -> FALSE | BU4: ='会社概況調査票（輸出）'!BO55 -> FALSE | BV4: ='会社概況調査票（輸出）'!A57 -> FALSE | BW4: ='会社概況調査票（輸出）'!AJ57 -> FALSE | BX4: ='会社概況調査票（輸出）'!A59 -> FALSE | BY4: ='会社概況調査票（輸出）'!AJ59 -> FALSE | BZ4: ='会社概況調査票（輸出）'!A61 -> FALSE | CA4: ='会社概況調査票（輸出）'!AJ61 -> FALSE | CB4: ='会社概況調査票（輸出）'!A63 -> FALSE | CC4: ='会社概況調査票（輸出）'!N63 -> 0 | CD4: ='会社概況調査票（輸出）'!A67 -> FALSE | CE4: ='会社概況調査票（輸出）'!BA67 -> FALSE | CF4: ='会社概況調査票（輸出）'!BW67 -> FALSE | CG4: ='会社概況調査票（輸出）'!A72 -> FALSE | CH4: ='会社概況調査票（輸出）'!F72 -> 0 | CI4: ='会社概況調査票（輸出）'!BW72 -> FALSE | CJ4: ='会社概況調査票（輸出）'!A77 -> FALSE | CK4: ='会社概況調査票（輸出）'!J77 -> FALSE | CL4: ='会社概況調査票（輸出）'!V77 -> FALSE | CM4: ='会社概況調査票（輸出）'!AL77 -> FALSE | CN4: ='会社概況調査票（輸出）'!AT77 -> 0 | CO4: ='会社概況調査票（輸出）'!AA81 -> FALSE | CP4: ='会社概況調査票（輸出）'!BF81 -> FALSE | CQ4: ='会社概況調査票（輸出）'!A82 -> 0 | CR4: ='会社概況調査票（輸出）'!AU90 -> FALSE | CS4: ='会社概況調査票（輸出）'!AZ90 -> FALSE | CT4: ='会社概況調査票（輸出）'!A92 -> 0 | CU4: ='会社概況調査票（輸出）'!A100 -> 0 | CV4: ='会社概況調査票（輸出）'!K108 -> FALSE | CW4: ='会社概況調査票（輸出）'!A109 -> 0 | CX4: ='会社概況調査票（輸出）'!Z108 -> FALSE | CY4: ='会社概況調査票（輸出）'!T109 -> 0
